BEGIN:VCALENDAR
PRODID:http://wibix.de/infusions/pro_download_panel/download.php?did=27
VERSION:2.0
METHOD:PUBLISH
BEGIN:VEVENT
DTSTART:20200923T170000Z
DTEND:20200923T175900Z
UID:438@https://pga-zawody.pzk.pl/
DTSTAMP:20200914T175749Z
DESCRIPTION:[url]https://logsp.pzk.org.pl/index.php?page=contest&amp;id=933[/url]
SUMMARY:VI Memoriał Stefana Starzyńskiego (DIGI)
CLASS:PUBLIC
END:VEVENT
END:VCALENDAR
