BEGIN:VCALENDAR
PRODID:http://wibix.de/infusions/pro_download_panel/download.php?did=27
VERSION:2.0
METHOD:PUBLISH
BEGIN:VEVENT
DTSTART:20200618T150000Z
DTEND:20200618T190000Z
UID:405@https://pga-zawody.pzk.pl/
DTSTAMP:20200604T195821Z
DESCRIPTION:[url]http://spac.pk-ukf.pl/docs/SPAC_pl_2018.pdf[/url]
SUMMARY:SPAC 70
CLASS:PUBLIC
END:VEVENT
END:VCALENDAR
