BEGIN:VCALENDAR
PRODID:http://wibix.de/infusions/pro_download_panel/download.php?did=27
VERSION:2.0
METHOD:PUBLISH
BEGIN:VEVENT
DTSTART:20200603T150000Z
DTEND:20200603T165900Z
UID:396@https://pga-zawody.pzk.pl/
DTSTAMP:20200517T165739Z
DESCRIPTION:[url]https://logsp.pzk.org.pl/index.php?page=contest&amp;id=713[/url]
SUMMARY:MP ARKI UKF
CLASS:PUBLIC
END:VEVENT
END:VCALENDAR
