BEGIN:VCALENDAR
PRODID:http://wibix.de/infusions/pro_download_panel/download.php?did=27
VERSION:2.0
METHOD:PUBLISH
BEGIN:VEVENT
DTSTART:20200912T140000Z
DTEND:20200912T145900Z
UID:382@https://pga-zawody.pzk.pl/
DTSTAMP:20200413T150301Z
DESCRIPTION:[url]https://ot20.pzk.org.pl/infusions/lmukf/lmukf.php?tura_id=0&amp;rok=2020[/url]
SUMMARY:LUBELSKI MARATON UKF
CLASS:PUBLIC
END:VEVENT
END:VCALENDAR
