BEGIN:VCALENDAR
PRODID:http://wibix.de/infusions/pro_download_panel/download.php?did=27
VERSION:2.0
METHOD:PUBLISH
BEGIN:VEVENT
DTSTART:20190817T060000Z
DTEND:20190817T060000Z
UID:297@https://pga-zawody.pzk.pl/
DTSTAMP:20190816T105448Z
DESCRIPTION:[url]http://rdaward.org/rdac1.htm[/url]
SUMMARY:RDA Contest cw/ssb
CLASS:PUBLIC
END:VEVENT
END:VCALENDAR
