BEGIN:VCALENDAR
PRODID:http://wibix.de/infusions/pro_download_panel/download.php?did=27
VERSION:2.0
METHOD:PUBLISH
BEGIN:VEVENT
DTSTART:20190824T100000Z
DTEND:20190824T095900Z
UID:288@https://pga-zawody.pzk.pl/
DTSTAMP:20180824T200038Z
DESCRIPTION:[url]http://www.hamradio.ro/wp-content/uploads/2019/07/Regulament-EN.pdf[/url]
SUMMARY:YO DX HF CONTEST CW &amp; SSB
CLASS:PUBLIC
END:VEVENT
END:VCALENDAR
