BEGIN:VCALENDAR
PRODID:http://wibix.de/infusions/pro_download_panel/download.php?did=27
VERSION:2.0
METHOD:PUBLISH
BEGIN:VEVENT
DTSTART:20190810T130000Z
DTEND:20190810T160000Z
UID:180@https://pga-zawody.pzk.pl/
DTSTAMP:20130711T072818Z
DESCRIPTION:[url]http://zamkisp.pl/index.php?option=com_content&amp;view=article&amp;id=332&amp;Itemid=112[/url]
SUMMARY:Zawody Militarne
CLASS:PUBLIC
END:VEVENT
END:VCALENDAR
