BEGIN:VCALENDAR
PRODID:http://wibix.de/infusions/pro_download_panel/download.php?did=27
VERSION:2.0
METHOD:PUBLISH
BEGIN:VEVENT
DTSTART:20190912T150000Z
DTEND:20190912T190000Z
UID:136@https://pga-zawody.pzk.pl/
DTSTAMP:20120201T094458Z
DESCRIPTION:[url]http://contest.pk-ukf.org.pl/rules/2011/SPAC_pl_2011.pdf[/url]
SUMMARY:SPAC 50 MHz
CLASS:PUBLIC
END:VEVENT
END:VCALENDAR
